View In:
ArcGIS JavaScript
ArcGIS Online Map Viewer
ArcGIS Earth
ArcMap
View Footprint In:
ArcGIS Online Map Viewer
Service Description: This dataset represents potential cores and patches of breeding habitat for Acorn woodpecker (Melanerpes formicivorus). Potential breeding area is defined as a cluster of pixels that are good enough (habitat suitability score above 50) and big enough to support breeding by the focal species. The other primary input to the analysis is home range or territory size. Thus, this analysis was only conducted if this information was available for the focal species. Potential breeding habitat was classified into two size classes. A potential core was defined as a continuous area of suitable habitat large enough to sustain at least 50 individuals. Potential cores are probably capable of supporting the species for several generations (although with erosion of genetic material if isolated). A breeding patch was defined as an area of suitable habitat large enough to support successful reproduction by a pair of individuals (perhaps more if home ranges overlap greatly), but smaller than a potential core area. Patches are useful to the species if the patches are linked via dispersal to other patches and core areas. For more information about the creation and utilization of this data, please see the report "Critical Linkages: Bay Area and Beyond" at http://www.scwildlands.org/reports/Default.aspx
Name: Project_BIOS_Testing/ds870_color_test_agsis
Description: This dataset represents potential cores and patches of breeding habitat for Acorn woodpecker (Melanerpes formicivorus). Potential breeding area is defined as a cluster of pixels that are good enough (habitat suitability score above 50) and big enough to support breeding by the focal species. The other primary input to the analysis is home range or territory size. Thus, this analysis was only conducted if this information was available for the focal species. Potential breeding habitat was classified into two size classes. A potential core was defined as a continuous area of suitable habitat large enough to sustain at least 50 individuals. Potential cores are probably capable of supporting the species for several generations (although with erosion of genetic material if isolated). A breeding patch was defined as an area of suitable habitat large enough to support successful reproduction by a pair of individuals (perhaps more if home ranges overlap greatly), but smaller than a potential core area. Patches are useful to the species if the patches are linked via dispersal to other patches and core areas. For more information about the creation and utilization of this data, please see the report "Critical Linkages: Bay Area and Beyond" at http://www.scwildlands.org/reports/Default.aspx
Single Fused Map Cache: false
Extent:
XMin: -329169.9179999996
YMin: -257940.48029999994
XMax: 29240.082000000402
YMax: 200369.51970000006
Spatial Reference: 3310
(3310)
Initial Extent:
XMin: -329169.9179999996
YMin: -257940.48029999994
XMax: 29240.082000000402
YMax: 200369.51970000006
Spatial Reference: 3310
(3310)
Full Extent:
XMin: -329169.9179999996
YMin: -257940.48029999994
XMax: 29240.082000000402
YMax: 200369.51970000006
Spatial Reference: 3310
(3310)
Pixel Size X: 30.0
Pixel Size Y: 30.0
Band Count: 1
Pixel Type: U8
RasterFunction Infos: {"name":"None","description":"","help":""}
Mensuration Capabilities: Basic
Has Histograms: true
Has Colormap: false
Has Multi Dimensions : false
Rendering Rule:
Min Scale: 0
Max Scale: 0
Copyright Text: Produced by Science and Collaboration for Connected Wildlands, Fair Oaks, CA, www.scwildlands.org
Service Data Type: esriImageServiceDataTypeThematic
Min Values: 1
Max Values: 3
Mean Values: 1.182129055074
Standard Deviation Values: 0.44850145043017
Object ID Field:
Fields:
None
Default Mosaic Method: Center
Allowed Mosaic Methods:
SortField:
SortValue: null
Mosaic Operator: First
Default Compression Quality: 75
Default Resampling Method: Bilinear
Max Record Count: null
Max Image Height: 4100
Max Image Width: 15000
Max Download Image Count: null
Max Mosaic Image Count: null
Allow Raster Function: true
Allow Compute TiePoints: false
Supports Statistics: false
Supports Advanced Queries: false
Use StandardizedQueries: true
Raster Type Infos:
Name: Raster Dataset
Description: Supports all ArcGIS Raster Datasets
Help:
Has Raster Attribute Table: true
Edit Fields Info: null
Ownership Based AccessControl For Rasters: null
Child Resources:
Info
Raster Attribute Table
Histograms
Key Properties
Legend
MultiDimensionalInfo
rasterFunctionInfos
Supported Operations:
Export Image
Identify
Measure
Compute Histograms
Compute Statistics Histograms
Get Samples
Compute Class Statistics
Query Boundary