View In:
ArcGIS JavaScript
ArcGIS Online Map Viewer
ArcGIS Earth
ArcMap
View Footprint In:
ArcGIS Online Map Viewer
Service Description: This service delivers all 4 bands of the NAIP 2020 aerial imagery and may be slower than other related NAIP 2020 services because of the amount and/or format of data being served. Band1=R, Band2=G, Band3=B, Band4=NearIR.
Name: Base_Remote_Sensing/NAIP_2020_4Band
Description: This service delivers all 4 bands of the NAIP 2020 aerial imagery and may be slower than other related NAIP 2020 services because of the amount and/or format of data being served. Band1=R, Band2=G, Band3=B, Band4=NearIR.
Single Fused Map Cache: false
Extent:
XMin: -1.38527370982E7
YMin: 3828870.269399999
XMax: -1.27038486982E7
YMax: 5170730.669399999
Spatial Reference: 102100
(3857)
Initial Extent:
XMin: -1.38527370982E7
YMin: 3828870.269399999
XMax: -1.27038486982E7
YMax: 5170730.669399999
Spatial Reference: 102100
(3857)
Full Extent:
XMin: -1.38527370982E7
YMin: 3828870.269399999
XMax: -1.27038486982E7
YMax: 5170730.669399999
Spatial Reference: 102100
(3857)
Pixel Size X: 0.6000000000000002
Pixel Size Y: 0.6
Band Count: 4
Pixel Type: U8
RasterFunction Infos: {"name":"None","description":"A No-Op Function.","help":""}
Mensuration Capabilities: Basic
Has Histograms: true
Has Colormap: false
Has Multi Dimensions : false
Rendering Rule:
Min Scale: 0
Max Scale: 0
Copyright Text:
Service Data Type: esriImageServiceDataTypeGeneric
Min Values: 0, 0, 0, 0
Max Values: 222, 221, 224, 216
Mean Values: 104.03063471325123, 106.00126540643922, 92.37918566298944, 126.97415966962421
Standard Deviation Values: 40.91801718518838, 32.41966788354328, 29.617775255357053, 29.960348617239116
Object ID Field: OBJECTID
Fields:
-
OBJECTID
(
type: esriFieldTypeOID
, alias: OBJECTID
)
-
Shape
(
type: esriFieldTypeGeometry
, alias: Shape
)
-
Name
(
type: esriFieldTypeString
, alias: Name
, length: 200
)
-
MinPS
(
type: esriFieldTypeDouble
, alias: MinPS
)
-
MaxPS
(
type: esriFieldTypeDouble
, alias: MaxPS
)
-
LowPS
(
type: esriFieldTypeDouble
, alias: LowPS
)
-
HighPS
(
type: esriFieldTypeDouble
, alias: HighPS
)
-
Category
(
type: esriFieldTypeInteger
, alias: Category
, Coded Values:
[0: Unknown]
, [1: Primary]
, [2: Overview]
, ...6 more...
)
-
Tag
(
type: esriFieldTypeString
, alias: Tag
, length: 100
)
-
GroupName
(
type: esriFieldTypeString
, alias: GroupName
, length: 100
)
-
ProductName
(
type: esriFieldTypeString
, alias: ProductName
, length: 100
)
-
CenterX
(
type: esriFieldTypeDouble
, alias: CenterX
)
-
CenterY
(
type: esriFieldTypeDouble
, alias: CenterY
)
-
ZOrder
(
type: esriFieldTypeInteger
, alias: ZOrder
)
-
Shape_Length
(
type: esriFieldTypeDouble
, alias: Shape_Length
)
-
Shape_Area
(
type: esriFieldTypeDouble
, alias: Shape_Area
)
Default Mosaic Method: Northwest
Allowed Mosaic Methods: NorthWest,Center,LockRaster,ByAttribute,Nadir,Viewpoint,Seamline,None
SortField:
SortValue: null
Mosaic Operator: First
Default Compression Quality: 75
Default Resampling Method: Bilinear
Max Record Count: 1000
Max Image Height: 4100
Max Image Width: 15000
Max Download Image Count: 20
Max Mosaic Image Count: 20
Allow Raster Function: true
Allow Compute TiePoints: false
Supports Statistics: true
Supports Advanced Queries: true
Use StandardizedQueries: true
Raster Type Infos:
Name: Raster Dataset
Description: Supports all ArcGIS Raster Datasets
Help:
Has Raster Attribute Table: false
Edit Fields Info: null
Ownership Based AccessControl For Rasters: null
Child Resources:
Info
Histograms
Key Properties
Legend
MultiDimensionalInfo
rasterFunctionInfos
Supported Operations:
Export Image
Query
Identify
Measure
Compute Histograms
Compute Statistics Histograms
Get Samples
Compute Class Statistics
Query Boundary