View In:
ArcGIS JavaScript
ArcGIS Online Map Viewer
ArcGIS Earth
ArcMap
View Footprint In:
ArcGIS Online Map Viewer
Service Description: This service delivers all 4 bands of the NAIP 2016 aerial imagery and may be slower than other related NAIP 2016 services because of the amount and/or format of data being served. Band1=R, Band2=G, Band3=B, Band4=NearIR.
Name: Base_Remote_Sensing/NAIP_2016_4Band
Description: This service delivers all 4 bands of the NAIP 2016 aerial imagery and may be slower than other related NAIP 2016 services because of the amount and/or format of data being served. Band1=R, Band2=G, Band3=B, Band4=NearIR.
Single Fused Map Cache: false
Extent:
XMin: -1.3852671545E7
YMin: 3828927.2682
XMax: -1.2703906745E7
YMax: 5170664.0682
Spatial Reference: 102100
(3857)
Initial Extent:
XMin: -1.3852671545E7
YMin: 3828927.2682
XMax: -1.2703906745E7
YMax: 5170664.0682
Spatial Reference: 102100
(3857)
Full Extent:
XMin: -1.3852671545E7
YMin: 3828927.2682
XMax: -1.2703906745E7
YMax: 5170664.0682
Spatial Reference: 102100
(3857)
Pixel Size X: 0.6000000000000004
Pixel Size Y: 0.5999999999999999
Band Count: 4
Pixel Type: U8
RasterFunction Infos: {"name":"None","description":"A No-Op Function.","help":""}
Mensuration Capabilities: None,Basic
Has Histograms: true
Has Colormap: false
Has Multi Dimensions : false
Rendering Rule:
Min Scale: 0
Max Scale: 0
Copyright Text:
Service Data Type: esriImageServiceDataTypeGeneric
Min Values: 0, 0, 0, 0
Max Values: 234, 233, 233, 231
Mean Values: 111.25897110338748, 111.55803756970674, 101.01403040835248, 131.66824843687914
Standard Deviation Values: 50.87099955547465, 41.28438772926135, 34.68073173622158, 42.77728819092149
Object ID Field: OBJECTID
Fields:
-
OBJECTID
(
type: esriFieldTypeOID
, alias: OBJECTID
)
-
Shape
(
type: esriFieldTypeGeometry
, alias: Shape
)
-
Name
(
type: esriFieldTypeString
, alias: Name
, length: 50
)
-
MinPS
(
type: esriFieldTypeDouble
, alias: MinPS
)
-
MaxPS
(
type: esriFieldTypeDouble
, alias: MaxPS
)
-
LowPS
(
type: esriFieldTypeDouble
, alias: LowPS
)
-
HighPS
(
type: esriFieldTypeDouble
, alias: HighPS
)
-
Category
(
type: esriFieldTypeInteger
, alias: Category
, Coded Values:
[0: Unknown]
, [1: Primary]
, [2: Overview]
, ...5 more...
)
-
Tag
(
type: esriFieldTypeString
, alias: Tag
, length: 20
)
-
GroupName
(
type: esriFieldTypeString
, alias: GroupName
, length: 50
)
-
ProductName
(
type: esriFieldTypeString
, alias: ProductName
, length: 50
)
-
CenterX
(
type: esriFieldTypeDouble
, alias: CenterX
)
-
CenterY
(
type: esriFieldTypeDouble
, alias: CenterY
)
-
ZOrder
(
type: esriFieldTypeInteger
, alias: ZOrder
)
-
Shape_Length
(
type: esriFieldTypeDouble
, alias: Shape_Length
)
-
Shape_Area
(
type: esriFieldTypeDouble
, alias: Shape_Area
)
Default Mosaic Method: Northwest
Allowed Mosaic Methods: NorthWest,Center,LockRaster,ByAttribute,Nadir,Viewpoint,Seamline,None
SortField:
SortValue: null
Mosaic Operator: First
Default Compression Quality: 75
Default Resampling Method: Bilinear
Max Record Count: 1000
Max Image Height: 4100
Max Image Width: 15000
Max Download Image Count: 20
Max Mosaic Image Count: 20
Allow Raster Function: true
Allow Compute TiePoints: false
Supports Statistics: true
Supports Advanced Queries: true
Use StandardizedQueries: true
Raster Type Infos:
Name: Raster Dataset
Description: Supports all ArcGIS Raster Datasets
Help:
Has Raster Attribute Table: false
Edit Fields Info: null
Ownership Based AccessControl For Rasters: null
Child Resources:
Info
Histograms
Key Properties
Legend
MultiDimensionalInfo
rasterFunctionInfos
Supported Operations:
Export Image
Query
Identify
Measure
Compute Histograms
Compute Statistics Histograms
Get Samples
Compute Class Statistics
Query Boundary