View In:
ArcGIS JavaScript
ArcGIS Online map viewer
Google Earth
ArcMap
View Footprint In:
ArcGIS Online map viewer
Service Description: USGS Topographic Maps - 7.5 Minute by 7.5 Minute 1:31,680 - (Published 1910-1918) - (Surveyed 1905-1912). Exception: karquinez_1901 USGS Topographic Map - 15 Minute by 15 Minute 1:62,500 scale - (Published 1901) - (Surveyed 1896). These paper maps were scanned to digital format (TIFF) by the USGS. The maps in TIFF format were then trimmed and georeferenced by the California Department of Fish and Wildlife.
Name: Base_Maps/Topo_Delta_Early_1900s
Description: USGS Topographic Maps - 7.5 Minute by 7.5 Minute 1:31,680 - (Published 1910-1918) - (Surveyed 1905-1912). Exception: karquinez_1901 USGS Topographic Map - 15 Minute by 15 Minute 1:62,500 scale - (Published 1901) - (Surveyed 1896). These paper maps were scanned to digital format (TIFF) by the USGS. The maps in TIFF format were then trimmed and georeferenced by the California Department of Fish and Wildlife.
Single Fused Map Cache: false
Extent:
XMin: -1.36089191257E7
YMin: 4525924.736905544
XMax: -1.348365064062803E7
YMax: 4668096.715799998
Spatial Reference: 102100
(3857)
Initial Extent:
XMin: -1.36089191257E7
YMin: 4525924.736905544
XMax: -1.348365064062803E7
YMax: 4668096.715799998
Spatial Reference: 102100
(3857)
Full Extent:
XMin: -1.36089191257E7
YMin: 4525924.736905544
XMax: -1.348365064062803E7
YMax: 4668096.715799998
Spatial Reference: 102100
(3857)
Pixel Size X: 2.0292309510783735
Pixel Size Y: 2.0292309510783806
Band Count: 3
Pixel Type: U8
RasterFunction Infos: {"name":"None","description":"","help":""}
Mensuration Capabilities: None
Has Histograms: false
Has Colormap: false
Has Multi Dimensions : false
Rendering Rule:
Min Scale: 0
Max Scale: 0
Copyright Text:
Service Data Type: esriImageServiceDataTypeRGB
Min Values: N/A
Max Values: N/A
Mean Values: N/A
Standard Deviation Values: N/A
Object ID Field: OBJECTID
Fields:
-
OBJECTID
(
type: esriFieldTypeOID
, alias: OBJECTID
)
-
Shape
(
type: esriFieldTypeGeometry
, alias: Shape
)
-
Name
(
type: esriFieldTypeString
, alias: Name
, length: 50
)
-
MinPS
(
type: esriFieldTypeDouble
, alias: MinPS
)
-
MaxPS
(
type: esriFieldTypeDouble
, alias: MaxPS
)
-
LowPS
(
type: esriFieldTypeDouble
, alias: LowPS
)
-
HighPS
(
type: esriFieldTypeDouble
, alias: HighPS
)
-
Category
(
type: esriFieldTypeInteger
, alias: Category
, Coded Values:
[0: Unknown]
, [1: Primary]
, [2: Overview]
, ...5 more...
)
-
Tag
(
type: esriFieldTypeString
, alias: Tag
, length: 20
)
-
GroupName
(
type: esriFieldTypeString
, alias: GroupName
, length: 50
)
-
ProductName
(
type: esriFieldTypeString
, alias: ProductName
, length: 50
)
-
CenterX
(
type: esriFieldTypeDouble
, alias: CenterX
)
-
CenterY
(
type: esriFieldTypeDouble
, alias: CenterY
)
-
ZOrder
(
type: esriFieldTypeInteger
, alias: ZOrder
)
-
Shape_Length
(
type: esriFieldTypeDouble
, alias: Shape_Length
)
-
Shape_Area
(
type: esriFieldTypeDouble
, alias: Shape_Area
)
Default Mosaic Method: Center
Allowed Mosaic Methods: Center,NorthWest,LockRaster,ByAttribute,Nadir,Viewpoint,Seamline,None
SortField:
SortValue: null
Mosaic Operator: First
Default Compression Quality: 75
Default Resampling Method: Bilinear
Max Record Count: 1000
Max Image Height: 4100
Max Image Width: 15000
Max Download Image Count: 20
Max Mosaic Image Count: 20
Allow Raster Function: true
Allow Compute TiePoints: false
Supports Statistics: true
Supports Advanced Queries: true
Use StandardizedQueries: true
Raster Type Infos:
Name: Raster Dataset
Description: Supports all ArcGIS Raster Datasets
Help:
Has Raster Attribute Table: false
Edit Fields Info: null
Ownership Based AccessControl For Rasters: null
Child Resources:
Info
Key Properties
Legend
MultiDimensionalInfo
rasterFunctionInfos
Supported Operations:
Export Image
Query
Identify
Compute Histograms
Compute Statistics Histograms
Get Samples
Compute Class Statistics